BEGIN:VCALENDAR
VERSION:2.0
PRODID:-//eventon.com NONSGML v1.0//EN
BEGIN:VEVENT
UID:69e72f19d9f17
DTSTAMP:20260421T100233
DTSTART:20210718T050000Z
DTEND:20210718T170000Z
LOCATION:L'étang de Chaux 23130 Peyrat-la-Nonière
SUMMARY:Vide grenier au bord de l'eau
DESCRIPTION: Emplacements gratuits pour les exposants - Interdit aux professionnels
END:VEVENT
END:VCALENDAR