BEGIN:VCALENDAR
VERSION:2.0
PRODID:-//eventon.com NONSGML v1.0//EN
BEGIN:VEVENT
UID:69e72ff842cdb
DTSTAMP:20260421T100616
DTSTART:20210814T120000Z
DTEND:20210814T150000Z
LOCATION:L'étang de Chaux 23130 Peyrat-la-Nonière
SUMMARY:Vaccibus
DESCRIPTION: Le vaccibus fera étape à l'étang de Chaux L'association offrira une écocup et une collation à toutes les personnes vaccinées ce samedi 14 août!
END:VEVENT
END:VCALENDAR