BEGIN:VCALENDAR
VERSION:2.0
PRODID:-//eventon.com NONSGML v1.0//EN
BEGIN:VEVENT
UID:69e97173a8965
DTSTAMP:20260423T031011
DTSTART:20220813T120000Z
DTEND:20220813T210000Z
LOCATION:L'étang de Chaux 23130 Peyrat-la-Nonière
SUMMARY:Animations famille "Eau & Espace"
DESCRIPTION: Canoë\,  Kayak\,  Stand Up Paddle avec le Canoë-Kayak club d’Aubusson à partir de 14h Soirée astronomie à la tombée de la nuit avec les animateurs du club d'astronomie "Les Pléiades" et leurs matériels (télecsopes\,  lunettes astronomiques... )
END:VEVENT
END:VCALENDAR